BEGIN:VCALENDAR
VERSION:2.0
PRODID:-//PROBUS Club of Mississauga Centre - ECPv6.15.18//NONSGML v1.0//EN
CALSCALE:GREGORIAN
METHOD:PUBLISH
X-ORIGINAL-URL:https://probusclubofmississaugacentre.ca
X-WR-CALDESC:Events for PROBUS Club of Mississauga Centre
REFRESH-INTERVAL;VALUE=DURATION:PT1H
X-Robots-Tag:noindex
X-PUBLISHED-TTL:PT1H
BEGIN:VTIMEZONE
TZID:America/Toronto
BEGIN:DAYLIGHT
TZOFFSETFROM:-0500
TZOFFSETTO:-0400
TZNAME:EDT
DTSTART:20240310T070000
END:DAYLIGHT
BEGIN:STANDARD
TZOFFSETFROM:-0400
TZOFFSETTO:-0500
TZNAME:EST
DTSTART:20241103T060000
END:STANDARD
BEGIN:DAYLIGHT
TZOFFSETFROM:-0500
TZOFFSETTO:-0400
TZNAME:EDT
DTSTART:20250309T070000
END:DAYLIGHT
BEGIN:STANDARD
TZOFFSETFROM:-0400
TZOFFSETTO:-0500
TZNAME:EST
DTSTART:20251102T060000
END:STANDARD
BEGIN:DAYLIGHT
TZOFFSETFROM:-0500
TZOFFSETTO:-0400
TZNAME:EDT
DTSTART:20260308T070000
END:DAYLIGHT
BEGIN:STANDARD
TZOFFSETFROM:-0400
TZOFFSETTO:-0500
TZNAME:EST
DTSTART:20261101T060000
END:STANDARD
END:VTIMEZONE
BEGIN:VEVENT
DTSTART;TZID=America/Toronto:20251216T130000
DTEND;TZID=America/Toronto:20251216T160000
DTSTAMP:20260421T151338
CREATED:20250110T135158Z
LAST-MODIFIED:20260112T205153Z
UID:10009094-1765890000-1765900800@probusclubofmississaugacentre.ca
SUMMARY:Euchre at Parkland on the Glen
DESCRIPTION:
URL:https://probusclubofmississaugacentre.ca/events/euchre-at-parkland-on-the-glen-10/2025-12-16/
CATEGORIES:Activities,General
ATTACH;FMTTYPE=image/png:https://probusclubofmississaugacentre.ca/wp-content/uploads/2020/01/euchre.png
END:VEVENT
BEGIN:VEVENT
DTSTART;TZID=America/Toronto:20251216T140000
DTEND;TZID=America/Toronto:20251216T163000
DTSTAMP:20260421T151338
CREATED:20200112T020623Z
LAST-MODIFIED:20231104T154705Z
UID:10003458-1765893600-1765902600@probusclubofmississaugacentre.ca
SUMMARY:Gentlemen's Bridge #1
DESCRIPTION:Contact \nRoss Dickie 416-234-8816 \nGentlemen’s Bridge is held each Tuesday at 2:00 pm using Trickster. \nIf you are interested in being on the spare list please contact Ross.
URL:https://probusclubofmississaugacentre.ca/events/gentlemens-bridge/2025-12-16/
CATEGORIES:Activities,General
ATTACH;FMTTYPE=image/jpeg:https://probusclubofmississaugacentre.ca/wp-content/uploads/2020/03/Bridge-3-of-3.jpg
END:VEVENT
BEGIN:VEVENT
DTSTART;TZID=America/Toronto:20251216T180000
DTEND;TZID=America/Toronto:20251216T200000
DTSTAMP:20260421T151338
CREATED:20251204T110138Z
LAST-MODIFIED:20251204T110138Z
UID:10010613-1765908000-1765915200@probusclubofmississaugacentre.ca
SUMMARY:Wine Pod #4 at Franico's Ristorante
DESCRIPTION:
URL:https://probusclubofmississaugacentre.ca/events/wine-pod-4-at-franicos-ristorante/
ATTACH;FMTTYPE=image/jpeg:https://probusclubofmississaugacentre.ca/wp-content/uploads/2022/08/Wine-Pods-2.jpg
END:VEVENT
END:VCALENDAR