BEGIN:VCALENDAR
VERSION:2.0
PRODID:-//PROBUS Club of Mississauga Centre - ECPv6.15.18//NONSGML v1.0//EN
CALSCALE:GREGORIAN
METHOD:PUBLISH
X-ORIGINAL-URL:https://probusclubofmississaugacentre.ca
X-WR-CALDESC:Events for PROBUS Club of Mississauga Centre
REFRESH-INTERVAL;VALUE=DURATION:PT1H
X-Robots-Tag:noindex
X-PUBLISHED-TTL:PT1H
BEGIN:VTIMEZONE
TZID:America/Toronto
BEGIN:DAYLIGHT
TZOFFSETFROM:-0500
TZOFFSETTO:-0400
TZNAME:EDT
DTSTART:20250309T070000
END:DAYLIGHT
BEGIN:STANDARD
TZOFFSETFROM:-0400
TZOFFSETTO:-0500
TZNAME:EST
DTSTART:20251102T060000
END:STANDARD
BEGIN:DAYLIGHT
TZOFFSETFROM:-0500
TZOFFSETTO:-0400
TZNAME:EDT
DTSTART:20260308T070000
END:DAYLIGHT
BEGIN:STANDARD
TZOFFSETFROM:-0400
TZOFFSETTO:-0500
TZNAME:EST
DTSTART:20261101T060000
END:STANDARD
BEGIN:DAYLIGHT
TZOFFSETFROM:-0500
TZOFFSETTO:-0400
TZNAME:EDT
DTSTART:20270314T070000
END:DAYLIGHT
BEGIN:STANDARD
TZOFFSETFROM:-0400
TZOFFSETTO:-0500
TZNAME:EST
DTSTART:20271107T060000
END:STANDARD
END:VTIMEZONE
BEGIN:VEVENT
DTSTART;TZID=America/Toronto:20260131T190000
DTEND;TZID=America/Toronto:20260131T233000
DTSTAMP:20260424T190052
CREATED:20251115T015800Z
LAST-MODIFIED:20251115T020035Z
UID:10010598-1769886000-1769902200@probusclubofmississaugacentre.ca
SUMMARY:19th ANNUAL "DANCING FOR THE COMPASS"
DESCRIPTION:
URL:https://probusclubofmississaugacentre.ca/events/19th-annual-dancing-for-the-compass/
CATEGORIES:Activities,Special Events
ATTACH;FMTTYPE=image/jpeg:https://probusclubofmississaugacentre.ca/wp-content/uploads/2025/11/Dancing-for-COMPASS-flyer-2026-scaled.jpg
END:VEVENT
END:VCALENDAR