BEGIN:VCALENDAR
VERSION:2.0
PRODID:-//PROBUS Club of Mississauga Centre - ECPv6.15.18//NONSGML v1.0//EN
CALSCALE:GREGORIAN
METHOD:PUBLISH
X-WR-CALNAME:PROBUS Club of Mississauga Centre
X-ORIGINAL-URL:https://probusclubofmississaugacentre.ca
X-WR-CALDESC:Events for PROBUS Club of Mississauga Centre
REFRESH-INTERVAL;VALUE=DURATION:PT1H
X-Robots-Tag:noindex
X-PUBLISHED-TTL:PT1H
BEGIN:VTIMEZONE
TZID:America/Toronto
BEGIN:DAYLIGHT
TZOFFSETFROM:-0500
TZOFFSETTO:-0400
TZNAME:EDT
DTSTART:20250309T070000
END:DAYLIGHT
BEGIN:STANDARD
TZOFFSETFROM:-0400
TZOFFSETTO:-0500
TZNAME:EST
DTSTART:20251102T060000
END:STANDARD
BEGIN:DAYLIGHT
TZOFFSETFROM:-0500
TZOFFSETTO:-0400
TZNAME:EDT
DTSTART:20260308T070000
END:DAYLIGHT
BEGIN:STANDARD
TZOFFSETFROM:-0400
TZOFFSETTO:-0500
TZNAME:EST
DTSTART:20261101T060000
END:STANDARD
BEGIN:DAYLIGHT
TZOFFSETFROM:-0500
TZOFFSETTO:-0400
TZNAME:EDT
DTSTART:20270314T070000
END:DAYLIGHT
BEGIN:STANDARD
TZOFFSETFROM:-0400
TZOFFSETTO:-0500
TZNAME:EST
DTSTART:20271107T060000
END:STANDARD
END:VTIMEZONE
BEGIN:VEVENT
DTSTART;TZID=America/Toronto:20260223T130000
DTEND;TZID=America/Toronto:20260223T160000
DTSTAMP:20260422T103310
CREATED:20240125T154614Z
LAST-MODIFIED:20250110T133833Z
UID:10007709-1771851600-1771862400@probusclubofmississaugacentre.ca
SUMMARY:Mahjongg
DESCRIPTION:Contact:  Diane Bage: 905-824-6414 or Joyce Murdoch: 416-997-4019 \nThe Mahjongg group meets every Monday afternoon. The four members take turns hosting.  Spares are always needed and welcomed. Lessons available for a group of beginners!
URL:https://probusclubofmississaugacentre.ca/events/mahjong-2-2/2026-02-23/
CATEGORIES:Activities,General
ATTACH;FMTTYPE=image/jpeg:https://probusclubofmississaugacentre.ca/wp-content/uploads/2021/05/mahjong-2.jpg
END:VEVENT
BEGIN:VEVENT
DTSTART;TZID=America/Toronto:20260224T100000
DTEND;TZID=America/Toronto:20260224T120000
DTSTAMP:20260422T103310
CREATED:20240321T113037Z
LAST-MODIFIED:20240321T204025Z
UID:10008167-1771927200-1771934400@probusclubofmississaugacentre.ca
SUMMARY:The Fourth Chapter Book Club
DESCRIPTION:
URL:https://probusclubofmississaugacentre.ca/events/the-fourth-chapter-book-club/2026-02-24/
CATEGORIES:Activities,General
ATTACH;FMTTYPE=image/jpeg:https://probusclubofmississaugacentre.ca/wp-content/uploads/2024/01/BOOKLIST.jpg
END:VEVENT
BEGIN:VEVENT
DTSTART;TZID=America/Toronto:20260224T120000
DTEND;TZID=America/Toronto:20260224T140000
DTSTAMP:20260422T103310
CREATED:20260103T181444Z
LAST-MODIFIED:20260103T181444Z
UID:10010667-1771934400-1771941600@probusclubofmississaugacentre.ca
SUMMARY:Peter's On Eglinton Restaurant
DESCRIPTION:PETER’s\nOn EGLINTON\n\n1035 Eglinton Ave E\,\nMississauga\nDate – Tuesday\, February 24\, 2026\nTime – 12 noon\nMenu – Peter’s Regular Menu\, including\ntheir famous Montreal Smoked\nMeat Sandwich\, French Onion\nSoup & much more\nCost – as per Peter’s menu- for example\nSmoked Meat Sandwich plus\nFrench Fries will cost $23 + tax\nProbus Members will have a Private Room\nHosts – Dennis & Joki Moyer- 416-616-5104 or\n905-270-7769 or dennis.moyer@rogers.com\nSignup – Probus meetings in Jan or Feb or contact the host
URL:https://probusclubofmississaugacentre.ca/events/peters-on-eglinton-restaurant/
LOCATION:Peter’s on Eglington\, 1035 Eglinton Ave E\, Mississauga\, Ontario\, L4W 1K4\, Canada
CATEGORIES:Activities,Dinner
ATTACH;FMTTYPE=image/jpeg:https://probusclubofmississaugacentre.ca/wp-content/uploads/2026/01/peter-s-on-eglinton.jpg
ORGANIZER;CN="Dennis and Yoki":MAILTO:dennis.moyer@rogers.com
END:VEVENT
BEGIN:VEVENT
DTSTART;TZID=America/Toronto:20260224T140000
DTEND;TZID=America/Toronto:20260224T163000
DTSTAMP:20260422T103310
CREATED:20200112T020623Z
LAST-MODIFIED:20231104T154705Z
UID:10003468-1771941600-1771950600@probusclubofmississaugacentre.ca
SUMMARY:Gentlemen's Bridge #1
DESCRIPTION:Contact \nRoss Dickie 416-234-8816 \nGentlemen’s Bridge is held each Tuesday at 2:00 pm using Trickster. \nIf you are interested in being on the spare list please contact Ross.
URL:https://probusclubofmississaugacentre.ca/events/gentlemens-bridge/2026-02-24/
CATEGORIES:Activities,General
ATTACH;FMTTYPE=image/jpeg:https://probusclubofmississaugacentre.ca/wp-content/uploads/2020/03/Bridge-3-of-3.jpg
END:VEVENT
BEGIN:VEVENT
DTSTART;TZID=America/Toronto:20260224T190000
DTEND;TZID=America/Toronto:20260224T210000
DTSTAMP:20260422T103310
CREATED:20220915T150844Z
LAST-MODIFIED:20220915T150844Z
UID:10003738-1771959600-1771966800@probusclubofmississaugacentre.ca
SUMMARY:Ladies' Bridge #1
DESCRIPTION:Contact:  Sandy Turner Phone: 905-823-3533 Our Ladies Group was the first one organized by our PROBUS nearly 20 years ago.  Eight devoted gals meet in the afternoons on the second Monday and last Tuesday of each month (Sept. to June).  We have lots of laughter and fun as we play bridge.
URL:https://probusclubofmississaugacentre.ca/events/ladies-bridge-1/2026-02-24/
ATTACH;FMTTYPE=image/jpeg:https://probusclubofmississaugacentre.ca/wp-content/uploads/2020/01/ladies-bridge-2.jpg
END:VEVENT
BEGIN:VEVENT
DTSTART;TZID=America/Toronto:20260225T100000
DTEND;TZID=America/Toronto:20260225T120000
DTSTAMP:20260422T103310
CREATED:20251007T114826Z
LAST-MODIFIED:20251007T114826Z
UID:10010398-1772013600-1772020800@probusclubofmississaugacentre.ca
SUMMARY:Bowling at Classic Bowl
DESCRIPTION:
URL:https://probusclubofmississaugacentre.ca/events/bowling-at-classic-bowl/2026-02-25/
LOCATION:Classic Bowl\, 3055 Dundas St W\, Mississauga\, Ontario\, L5L 3R8\, Canada
ATTACH;FMTTYPE=image/jpeg:https://probusclubofmississaugacentre.ca/wp-content/uploads/2020/01/bowling.jpg
END:VEVENT
END:VCALENDAR