BEGIN:VCALENDAR
VERSION:2.0
PRODID:-//PROBUS Club of Mississauga Centre - ECPv6.15.18//NONSGML v1.0//EN
CALSCALE:GREGORIAN
METHOD:PUBLISH
X-WR-CALNAME:PROBUS Club of Mississauga Centre
X-ORIGINAL-URL:https://probusclubofmississaugacentre.ca
X-WR-CALDESC:Events for PROBUS Club of Mississauga Centre
REFRESH-INTERVAL;VALUE=DURATION:PT1H
X-Robots-Tag:noindex
X-PUBLISHED-TTL:PT1H
BEGIN:VTIMEZONE
TZID:America/Toronto
BEGIN:DAYLIGHT
TZOFFSETFROM:-0500
TZOFFSETTO:-0400
TZNAME:EDT
DTSTART:20250309T070000
END:DAYLIGHT
BEGIN:STANDARD
TZOFFSETFROM:-0400
TZOFFSETTO:-0500
TZNAME:EST
DTSTART:20251102T060000
END:STANDARD
BEGIN:DAYLIGHT
TZOFFSETFROM:-0500
TZOFFSETTO:-0400
TZNAME:EDT
DTSTART:20260308T070000
END:DAYLIGHT
BEGIN:STANDARD
TZOFFSETFROM:-0400
TZOFFSETTO:-0500
TZNAME:EST
DTSTART:20261101T060000
END:STANDARD
BEGIN:DAYLIGHT
TZOFFSETFROM:-0500
TZOFFSETTO:-0400
TZNAME:EDT
DTSTART:20270314T070000
END:DAYLIGHT
BEGIN:STANDARD
TZOFFSETFROM:-0400
TZOFFSETTO:-0500
TZNAME:EST
DTSTART:20271107T060000
END:STANDARD
END:VTIMEZONE
BEGIN:VEVENT
DTSTART;TZID=America/Toronto:20260303T140000
DTEND;TZID=America/Toronto:20260303T163000
DTSTAMP:20260422T114542
CREATED:20200112T020623Z
LAST-MODIFIED:20231104T154705Z
UID:10003469-1772546400-1772555400@probusclubofmississaugacentre.ca
SUMMARY:Gentlemen's Bridge #1
DESCRIPTION:Contact \nRoss Dickie 416-234-8816 \nGentlemen’s Bridge is held each Tuesday at 2:00 pm using Trickster. \nIf you are interested in being on the spare list please contact Ross.
URL:https://probusclubofmississaugacentre.ca/events/gentlemens-bridge/2026-03-03/
LOCATION:Ontario
CATEGORIES:Activities,General
ATTACH;FMTTYPE=image/jpeg:https://probusclubofmississaugacentre.ca/wp-content/uploads/2020/03/Bridge-3-of-3.jpg
END:VEVENT
BEGIN:VEVENT
DTSTART;TZID=America/Toronto:20260304T100000
DTEND;TZID=America/Toronto:20260304T120000
DTSTAMP:20260422T114542
CREATED:20251007T114826Z
LAST-MODIFIED:20251007T114826Z
UID:10010399-1772618400-1772625600@probusclubofmississaugacentre.ca
SUMMARY:Bowling at Classic Bowl
DESCRIPTION:
URL:https://probusclubofmississaugacentre.ca/events/bowling-at-classic-bowl/2026-03-04/
LOCATION:Classic Bowl\, 3055 Dundas St W\, Mississauga\, Ontario\, L5L 3R8\, Canada
ATTACH;FMTTYPE=image/jpeg:https://probusclubofmississaugacentre.ca/wp-content/uploads/2020/01/bowling.jpg
END:VEVENT
BEGIN:VEVENT
DTSTART;TZID=America/Toronto:20260305T130000
DTEND;TZID=America/Toronto:20260305T163000
DTSTAMP:20260422T114542
CREATED:20200130T154537Z
LAST-MODIFIED:20200826T174537Z
UID:10004244-1772715600-1772728200@probusclubofmississaugacentre.ca
SUMMARY:Ladies' Bridge #3
DESCRIPTION:Contact:  Carol Slater \nPhone: 905-275-1756 \nEight ladies meet on the first and third Thursday of each month from September to May to enjoy two tables of bridge\, tasty desserts and treats\, and most importantly\, the friendship and warmth of our fellow PROBUS members. We also look forward to both a pot luck Christmas celebration\, as well as\, another at the end of the season.
URL:https://probusclubofmississaugacentre.ca/events/ladies-bridge-3-2-2/2026-03-05/
LOCATION:Ontario
CATEGORIES:Activities,General
ATTACH;FMTTYPE=image/jpeg:https://probusclubofmississaugacentre.ca/wp-content/uploads/2020/01/ladies-bridge-2.jpg
END:VEVENT
BEGIN:VEVENT
DTSTART;TZID=America/Toronto:20260309T093000
DTEND;TZID=America/Toronto:20260309T120000
DTSTAMP:20260422T114542
CREATED:20200130T123533Z
LAST-MODIFIED:20220412T135640Z
UID:10003584-1773048600-1773057600@probusclubofmississaugacentre.ca
SUMMARY:Investment Club - Zoom Meeting
DESCRIPTION:Contact:  Barbara Dodds \nPhone: 905-849-5899 \nThe Dream Catchers Investment Club consists of a group of members who wish to learn about and participate in buying and selling stocks that trade on the Toronto and New York Stock Exchanges. The group meets on the second Monday of each month at 9:30 a.m. on ZOOM
URL:https://probusclubofmississaugacentre.ca/events/investment-club/2026-03-09/
LOCATION:Ontario
CATEGORIES:Activities,General
ATTACH;FMTTYPE=image/png:https://probusclubofmississaugacentre.ca/wp-content/uploads/2020/01/investment.png
END:VEVENT
BEGIN:VEVENT
DTSTART;TZID=America/Toronto:20260309T130000
DTEND;TZID=America/Toronto:20260309T150000
DTSTAMP:20260422T114542
CREATED:20240915T135144Z
LAST-MODIFIED:20240915T135317Z
UID:10008911-1773061200-1773068400@probusclubofmississaugacentre.ca
SUMMARY:Ladies' Bridge #1
DESCRIPTION:Contact:  Barbara Dodds Phone: 905-849-5899  Our Ladies Group was the first one organized by our PROBUS nearly 20 years ago.  Eight devoted gals meet in the afternoons on the 2nd and 4th Tuesday of each month (Sept. to June).  We have lots of laughter and fun as we play bridge.
URL:https://probusclubofmississaugacentre.ca/events/ladies-bridge-1-2/2026-03-09/
LOCATION:Ontario
CATEGORIES:Activities,General
ATTACH;FMTTYPE=image/jpeg:https://probusclubofmississaugacentre.ca/wp-content/uploads/2020/01/ladies-bridge-2.jpg
END:VEVENT
BEGIN:VEVENT
DTSTART;TZID=America/Toronto:20260309T130000
DTEND;TZID=America/Toronto:20260309T160000
DTSTAMP:20260422T114542
CREATED:20240125T154614Z
LAST-MODIFIED:20250110T133833Z
UID:10007711-1773061200-1773072000@probusclubofmississaugacentre.ca
SUMMARY:Mahjongg
DESCRIPTION:Contact:  Diane Bage: 905-824-6414 or Joyce Murdoch: 416-997-4019 \nThe Mahjongg group meets every Monday afternoon. The four members take turns hosting.  Spares are always needed and welcomed. Lessons available for a group of beginners!
URL:https://probusclubofmississaugacentre.ca/events/mahjong-2-2/2026-03-09/
LOCATION:Ontario
CATEGORIES:Activities,General
ATTACH;FMTTYPE=image/jpeg:https://probusclubofmississaugacentre.ca/wp-content/uploads/2021/05/mahjong-2.jpg
END:VEVENT
BEGIN:VEVENT
DTSTART;TZID=America/Toronto:20260310T140000
DTEND;TZID=America/Toronto:20260310T163000
DTSTAMP:20260422T114542
CREATED:20200112T020623Z
LAST-MODIFIED:20231104T154705Z
UID:10003470-1773151200-1773160200@probusclubofmississaugacentre.ca
SUMMARY:Gentlemen's Bridge #1
DESCRIPTION:Contact \nRoss Dickie 416-234-8816 \nGentlemen’s Bridge is held each Tuesday at 2:00 pm using Trickster. \nIf you are interested in being on the spare list please contact Ross.
URL:https://probusclubofmississaugacentre.ca/events/gentlemens-bridge/2026-03-10/
LOCATION:Ontario
CATEGORIES:Activities,General
ATTACH;FMTTYPE=image/jpeg:https://probusclubofmississaugacentre.ca/wp-content/uploads/2020/03/Bridge-3-of-3.jpg
END:VEVENT
BEGIN:VEVENT
DTSTART;TZID=America/Toronto:20260311T100000
DTEND;TZID=America/Toronto:20260311T120000
DTSTAMP:20260422T114542
CREATED:20251007T114826Z
LAST-MODIFIED:20251007T114826Z
UID:10010400-1773223200-1773230400@probusclubofmississaugacentre.ca
SUMMARY:Bowling at Classic Bowl
DESCRIPTION:
URL:https://probusclubofmississaugacentre.ca/events/bowling-at-classic-bowl/2026-03-11/
LOCATION:Classic Bowl\, 3055 Dundas St W\, Mississauga\, Ontario\, L5L 3R8\, Canada
ATTACH;FMTTYPE=image/jpeg:https://probusclubofmississaugacentre.ca/wp-content/uploads/2020/01/bowling.jpg
END:VEVENT
BEGIN:VEVENT
DTSTART;TZID=America/Toronto:20260312T093000
DTEND;TZID=America/Toronto:20260312T233000
DTSTAMP:20260422T114542
CREATED:20200223T105918Z
LAST-MODIFIED:20220913T161702Z
UID:10004818-1773307800-1773358200@probusclubofmississaugacentre.ca
SUMMARY:PROBUS Monthly Meeting
DESCRIPTION:
URL:https://probusclubofmississaugacentre.ca/events/930-probus-monthly-meeting/2026-03-12/
LOCATION:Ontario
CATEGORIES:Activities,General
END:VEVENT
BEGIN:VEVENT
DTSTART;TZID=America/Toronto:20260312T103000
DTEND;TZID=America/Toronto:20260312T113000
DTSTAMP:20260422T114542
CREATED:20251106T184508Z
LAST-MODIFIED:20260226T195006Z
UID:10010442-1773311400-1773315000@probusclubofmississaugacentre.ca
SUMMARY:Guest Speaker: Dr. Christopher DiCarlo
DESCRIPTION:Dr. Christopher DiCarlo is a philosopher\, educator\, and author. He is the Principal and Founder of Critical Thinking Solutions\, a consulting business for individuals\, corporations\, and not-for-profits in both the private and public sectors. He currently holds the position of Senior Researcher and Ethicist at Convergence Analysis – an international organization focusing on AI Risk and Governance. \nDr. DiCarlo is also the Ethics Chair for the Canadian Mental Health Association (Waterloo/Wellington) and is also a lifetime member of Humanist Canada and an Expert Advisor for the Centre for Inquiry Canada. He often teaches at The Life Institute at Toronto Metropolitan University and is a past Visiting Research Scholar at Harvard University in the Department of Anthropology and the Peabody Museum of Archaeology and Ethnology. Dr. DiCarlo has won several awards\, including TV Ontario’s Big Ideas Best Lecturer in Ontario Award and Canada’s Humanist of the Year. \nDr. DiCarlo has been invited to speak at numerous national and international conferences and has written many peer-reviewed scholarly papers ranging from bioethics to cognitive evolution. He is the author of several books\, and his best-seller\, How to Become a Really Good Pain in the Ass: A Critical Thinker’s Guide to Asking the Right Questions\, was released by Prometheus Books as a 2nd Edition to mark its 10th-year anniversary. His book: So You Think You Can Think: Tools for Intelligent Conversations and Getting Along was published by Rowman and Littlefield and was released in June of 2020. And his current book from Prometheus Books\, was released early in 2025\, and is called Building a God: The Ethics of Artificial Intelligence and the Race to Control It. \n  \nDr. DiCarlo also hosts a podcast called: All Things Considered\, in which he engages in free and open discussion about current\, important issues with world thought leaders\, politicians\, and entertainers through the lens of Critical Thinking and Ethical Reasoning.
URL:https://probusclubofmississaugacentre.ca/events/guest-speaker-neil-crone/
LOCATION:Ontario
CATEGORIES:Activities,Speakers
ATTACH;FMTTYPE=image/png:https://probusclubofmississaugacentre.ca/wp-content/uploads/2026/02/Christopher-DiCarlo.png
END:VEVENT
BEGIN:VEVENT
DTSTART;TZID=America/Toronto:20260313T100000
DTEND;TZID=America/Toronto:20260313T120000
DTSTAMP:20260422T114542
CREATED:20240304T204836Z
LAST-MODIFIED:20240304T204837Z
UID:10007900-1773396000-1773403200@probusclubofmississaugacentre.ca
SUMMARY:Book Worms Club at Mary Desjardine's home
DESCRIPTION:Contact:  Mary DesJardine\, \nPhone: 905-820-8275 \nThe Book Worms meet at 10:00am on the first Friday of the month excluding July and August.   The 11 members take turns hosting and try to choose books that are available at the library.  The group makes suggestions about which books to read.  We have a potluck Christmas party where we each share a book we have enjoyed.
URL:https://probusclubofmississaugacentre.ca/events/book-worms-2-2-2/2026-03-13/
LOCATION:Ontario
CATEGORIES:Activities,General
ATTACH;FMTTYPE=image/jpeg:https://probusclubofmississaugacentre.ca/wp-content/uploads/2021/05/Book_club_lets-talk-books.jpg
ORGANIZER;CN="Mary Desjardine":MAILTO:marydesjardine@sympatico.ca
END:VEVENT
END:VCALENDAR