BEGIN:VCALENDAR
VERSION:2.0
PRODID:-//PROBUS Club of Mississauga Centre - ECPv6.15.18//NONSGML v1.0//EN
CALSCALE:GREGORIAN
METHOD:PUBLISH
X-WR-CALNAME:PROBUS Club of Mississauga Centre
X-ORIGINAL-URL:https://probusclubofmississaugacentre.ca
X-WR-CALDESC:Events for PROBUS Club of Mississauga Centre
REFRESH-INTERVAL;VALUE=DURATION:PT1H
X-Robots-Tag:noindex
X-PUBLISHED-TTL:PT1H
BEGIN:VTIMEZONE
TZID:America/Toronto
BEGIN:DAYLIGHT
TZOFFSETFROM:-0500
TZOFFSETTO:-0400
TZNAME:EDT
DTSTART:20240310T070000
END:DAYLIGHT
BEGIN:STANDARD
TZOFFSETFROM:-0400
TZOFFSETTO:-0500
TZNAME:EST
DTSTART:20241103T060000
END:STANDARD
BEGIN:DAYLIGHT
TZOFFSETFROM:-0500
TZOFFSETTO:-0400
TZNAME:EDT
DTSTART:20250309T070000
END:DAYLIGHT
BEGIN:STANDARD
TZOFFSETFROM:-0400
TZOFFSETTO:-0500
TZNAME:EST
DTSTART:20251102T060000
END:STANDARD
BEGIN:DAYLIGHT
TZOFFSETFROM:-0500
TZOFFSETTO:-0400
TZNAME:EDT
DTSTART:20260308T070000
END:DAYLIGHT
BEGIN:STANDARD
TZOFFSETFROM:-0400
TZOFFSETTO:-0500
TZNAME:EST
DTSTART:20261101T060000
END:STANDARD
END:VTIMEZONE
BEGIN:VEVENT
DTSTART;TZID=America/Toronto:20251028T100000
DTEND;TZID=America/Toronto:20251028T120000
DTSTAMP:20260421T202252
CREATED:20240321T113037Z
LAST-MODIFIED:20240321T204025Z
UID:10008163-1761645600-1761652800@probusclubofmississaugacentre.ca
SUMMARY:The Fourth Chapter Book Club
DESCRIPTION:
URL:https://probusclubofmississaugacentre.ca/events/the-fourth-chapter-book-club/2025-10-28/
CATEGORIES:Activities,General
ATTACH;FMTTYPE=image/jpeg:https://probusclubofmississaugacentre.ca/wp-content/uploads/2024/01/BOOKLIST.jpg
END:VEVENT
BEGIN:VEVENT
DTSTART;TZID=America/Toronto:20251028T140000
DTEND;TZID=America/Toronto:20251028T163000
DTSTAMP:20260421T202252
CREATED:20200112T020623Z
LAST-MODIFIED:20231104T154705Z
UID:10003451-1761660000-1761669000@probusclubofmississaugacentre.ca
SUMMARY:Gentlemen's Bridge #1
DESCRIPTION:Contact \nRoss Dickie 416-234-8816 \nGentlemen’s Bridge is held each Tuesday at 2:00 pm using Trickster. \nIf you are interested in being on the spare list please contact Ross.
URL:https://probusclubofmississaugacentre.ca/events/gentlemens-bridge/2025-10-28/
CATEGORIES:Activities,General
ATTACH;FMTTYPE=image/jpeg:https://probusclubofmississaugacentre.ca/wp-content/uploads/2020/03/Bridge-3-of-3.jpg
END:VEVENT
BEGIN:VEVENT
DTSTART;TZID=America/Toronto:20251028T180000
DTEND;TZID=America/Toronto:20251028T200000
DTSTAMP:20260421T202252
CREATED:20250906T231347Z
LAST-MODIFIED:20250906T231347Z
UID:10010316-1761674400-1761681600@probusclubofmississaugacentre.ca
SUMMARY:Clarkson Mediterranean Bistro
DESCRIPTION:Tuesday\, Oct 28\, 2025  \nClarkson Mediterranean Bistro\n1731 Lakeshore Rd. W. Mississauga\, ON L5J 1J4 \n(beside Michael’s Back Door) \nFree Parking in the rear  \nDrinks 6:00 PM; Dinner at 6:30 PM \n3 Course Dinner ($66.00 per person) \n\nAPPETIZERS – Choice of 1\n\nRoasted Beet Salad Baby Spinach\, red onions\, cherry tomatoes\, goat cheese & pine nuts in a pesto dressing \nSmoked Salmon on a bed of baby greens with red onions\, capers & goat cheese \nDaily Soup Creation \n\nENTREES – Choice of 1\n\nRoasted Halibut Topped with Caribbean salsa\, served with potatoes and seasonal vegetables \nLobster Tail Spaghetti 6 oz. Lobster tail\, tossed with mixed vegetables in a pesto aliolio sauce \nVeal or Chicken Scaloppini Gorgonzola With gorgonzola cream sauce\, potatoes\, and seasonal vegetables \nClarkson Chicken Risotto Roasted tomatoes\, zucchini\, artichoke hearts & Parmesan in a light white wine rose sauce \n\nDESSERT\n\nTartufo \nPanna Cotta \nCreme Brulee \n  \nHosted by Mike & Kathy Jansen (905-897-9048; mikejansen47@gmail.com)
URL:https://probusclubofmississaugacentre.ca/events/clarkson-mediterranean-bistro/
CATEGORIES:Activities,Dinner
ATTACH;FMTTYPE=image/jpeg:https://probusclubofmississaugacentre.ca/wp-content/uploads/2022/05/Clarkson-Mediterranean-Bistro.jpg
END:VEVENT
BEGIN:VEVENT
DTSTART;TZID=America/Toronto:20251028T190000
DTEND;TZID=America/Toronto:20251028T210000
DTSTAMP:20260421T202252
CREATED:20220915T150844Z
LAST-MODIFIED:20220915T150844Z
UID:10003734-1761678000-1761685200@probusclubofmississaugacentre.ca
SUMMARY:Ladies' Bridge #1
DESCRIPTION:Contact:  Sandy Turner Phone: 905-823-3533 Our Ladies Group was the first one organized by our PROBUS nearly 20 years ago.  Eight devoted gals meet in the afternoons on the second Monday and last Tuesday of each month (Sept. to June).  We have lots of laughter and fun as we play bridge.
URL:https://probusclubofmississaugacentre.ca/events/ladies-bridge-1/2025-10-28/
ATTACH;FMTTYPE=image/jpeg:https://probusclubofmississaugacentre.ca/wp-content/uploads/2020/01/ladies-bridge-2.jpg
END:VEVENT
END:VCALENDAR