BEGIN:VCALENDAR
VERSION:2.0
PRODID:-//PROBUS Club of Mississauga Centre - ECPv6.15.18//NONSGML v1.0//EN
CALSCALE:GREGORIAN
METHOD:PUBLISH
X-WR-CALNAME:PROBUS Club of Mississauga Centre
X-ORIGINAL-URL:https://probusclubofmississaugacentre.ca
X-WR-CALDESC:Events for PROBUS Club of Mississauga Centre
REFRESH-INTERVAL;VALUE=DURATION:PT1H
X-Robots-Tag:noindex
X-PUBLISHED-TTL:PT1H
BEGIN:VTIMEZONE
TZID:America/Toronto
BEGIN:DAYLIGHT
TZOFFSETFROM:-0500
TZOFFSETTO:-0400
TZNAME:EDT
DTSTART:20240310T070000
END:DAYLIGHT
BEGIN:STANDARD
TZOFFSETFROM:-0400
TZOFFSETTO:-0500
TZNAME:EST
DTSTART:20241103T060000
END:STANDARD
BEGIN:DAYLIGHT
TZOFFSETFROM:-0500
TZOFFSETTO:-0400
TZNAME:EDT
DTSTART:20250309T070000
END:DAYLIGHT
BEGIN:STANDARD
TZOFFSETFROM:-0400
TZOFFSETTO:-0500
TZNAME:EST
DTSTART:20251102T060000
END:STANDARD
BEGIN:DAYLIGHT
TZOFFSETFROM:-0500
TZOFFSETTO:-0400
TZNAME:EDT
DTSTART:20260308T070000
END:DAYLIGHT
BEGIN:STANDARD
TZOFFSETFROM:-0400
TZOFFSETTO:-0500
TZNAME:EST
DTSTART:20261101T060000
END:STANDARD
END:VTIMEZONE
BEGIN:VEVENT
DTSTART;TZID=America/Toronto:20251208T130000
DTEND;TZID=America/Toronto:20251208T150000
DTSTAMP:20260422T035005
CREATED:20240915T135144Z
LAST-MODIFIED:20240915T135317Z
UID:10008909-1765198800-1765206000@probusclubofmississaugacentre.ca
SUMMARY:Ladies' Bridge #1
DESCRIPTION:Contact:  Barbara Dodds Phone: 905-849-5899  Our Ladies Group was the first one organized by our PROBUS nearly 20 years ago.  Eight devoted gals meet in the afternoons on the 2nd and 4th Tuesday of each month (Sept. to June).  We have lots of laughter and fun as we play bridge.
URL:https://probusclubofmississaugacentre.ca/events/ladies-bridge-1-2/2025-12-08/
CATEGORIES:Activities,General
ATTACH;FMTTYPE=image/jpeg:https://probusclubofmississaugacentre.ca/wp-content/uploads/2020/01/ladies-bridge-2.jpg
END:VEVENT
BEGIN:VEVENT
DTSTART;TZID=America/Toronto:20251208T130000
DTEND;TZID=America/Toronto:20251208T160000
DTSTAMP:20260422T035005
CREATED:20240125T154614Z
LAST-MODIFIED:20250110T133833Z
UID:10007701-1765198800-1765209600@probusclubofmississaugacentre.ca
SUMMARY:Mahjongg
DESCRIPTION:Contact:  Diane Bage: 905-824-6414 or Joyce Murdoch: 416-997-4019 \nThe Mahjongg group meets every Monday afternoon. The four members take turns hosting.  Spares are always needed and welcomed. Lessons available for a group of beginners!
URL:https://probusclubofmississaugacentre.ca/events/mahjong-2-2/2025-12-08/
CATEGORIES:Activities,General
ATTACH;FMTTYPE=image/jpeg:https://probusclubofmississaugacentre.ca/wp-content/uploads/2021/05/mahjong-2.jpg
END:VEVENT
BEGIN:VEVENT
DTSTART;TZID=America/Toronto:20251209T140000
DTEND;TZID=America/Toronto:20251209T163000
DTSTAMP:20260422T035005
CREATED:20200112T020623Z
LAST-MODIFIED:20231104T154705Z
UID:10003457-1765288800-1765297800@probusclubofmississaugacentre.ca
SUMMARY:Gentlemen's Bridge #1
DESCRIPTION:Contact \nRoss Dickie 416-234-8816 \nGentlemen’s Bridge is held each Tuesday at 2:00 pm using Trickster. \nIf you are interested in being on the spare list please contact Ross.
URL:https://probusclubofmississaugacentre.ca/events/gentlemens-bridge/2025-12-09/
CATEGORIES:Activities,General
ATTACH;FMTTYPE=image/jpeg:https://probusclubofmississaugacentre.ca/wp-content/uploads/2020/03/Bridge-3-of-3.jpg
END:VEVENT
BEGIN:VEVENT
DTSTART;TZID=America/Toronto:20251209T173000
DTEND;TZID=America/Toronto:20251209T193000
DTSTAMP:20260422T035005
CREATED:20251201T105555Z
LAST-MODIFIED:20251201T105555Z
UID:10010608-1765301400-1765308600@probusclubofmississaugacentre.ca
SUMMARY:Wine Pod #2: A catered Christmas Dinner at Mary Jean Clarkson’s
DESCRIPTION:
URL:https://probusclubofmississaugacentre.ca/events/wine-pod-2-a-catered-christmas-dinner-at-mary-jean-clarksons/
CATEGORIES:Activities,General
ATTACH;FMTTYPE=image/jpeg:https://probusclubofmississaugacentre.ca/wp-content/uploads/2024/08/Wine-Pairing.jpeg
END:VEVENT
BEGIN:VEVENT
DTSTART;TZID=America/Toronto:20251210T100000
DTEND;TZID=America/Toronto:20251210T120000
DTSTAMP:20260422T035005
CREATED:20251007T114826Z
LAST-MODIFIED:20251007T114826Z
UID:10010387-1765360800-1765368000@probusclubofmississaugacentre.ca
SUMMARY:Bowling at Classic Bowl
DESCRIPTION:
URL:https://probusclubofmississaugacentre.ca/events/bowling-at-classic-bowl/2025-12-10/
LOCATION:Classic Bowl\, 3055 Dundas St W\, Mississauga\, Ontario\, L5L 3R8\, Canada
ATTACH;FMTTYPE=image/jpeg:https://probusclubofmississaugacentre.ca/wp-content/uploads/2020/01/bowling.jpg
END:VEVENT
BEGIN:VEVENT
DTSTART;TZID=America/Toronto:20251211T093000
DTEND;TZID=America/Toronto:20251211T233000
DTSTAMP:20260422T035005
CREATED:20200223T105918Z
LAST-MODIFIED:20220913T161702Z
UID:10004815-1765445400-1765495800@probusclubofmississaugacentre.ca
SUMMARY:PROBUS Monthly Meeting
DESCRIPTION:
URL:https://probusclubofmississaugacentre.ca/events/930-probus-monthly-meeting/2025-12-11/
CATEGORIES:Activities,General
END:VEVENT
BEGIN:VEVENT
DTSTART;TZID=America/Toronto:20251211T113000
DTEND;TZID=America/Toronto:20251211T150000
DTSTAMP:20260422T035005
CREATED:20251027T195908Z
LAST-MODIFIED:20251027T200254Z
UID:10010427-1765452600-1765465200@probusclubofmississaugacentre.ca
SUMMARY:Christmas Luncheon
DESCRIPTION:
URL:https://probusclubofmississaugacentre.ca/events/christmas-luncheon/
LOCATION:Credit Valley Golf & Country Club\, 2500 Old Carriage Road\, Mississauga\, Ontario\, L5C1Y7\, Canada
CATEGORIES:Activities,Special Events
ATTACH;FMTTYPE=image/jpeg:https://probusclubofmississaugacentre.ca/wp-content/uploads/2025/10/Probus-Christmas-luncheon-2025.jpg
END:VEVENT
BEGIN:VEVENT
DTSTART;TZID=America/Toronto:20251212T100000
DTEND;TZID=America/Toronto:20251212T120000
DTSTAMP:20260422T035005
CREATED:20240304T204836Z
LAST-MODIFIED:20240304T204837Z
UID:10007897-1765533600-1765540800@probusclubofmississaugacentre.ca
SUMMARY:Book Worms Club at Mary Desjardine's home
DESCRIPTION:Contact:  Mary DesJardine\, \nPhone: 905-820-8275 \nThe Book Worms meet at 10:00am on the first Friday of the month excluding July and August.   The 11 members take turns hosting and try to choose books that are available at the library.  The group makes suggestions about which books to read.  We have a potluck Christmas party where we each share a book we have enjoyed.
URL:https://probusclubofmississaugacentre.ca/events/book-worms-2-2-2/2025-12-12/
CATEGORIES:Activities,General
ATTACH;FMTTYPE=image/jpeg:https://probusclubofmississaugacentre.ca/wp-content/uploads/2021/05/Book_club_lets-talk-books.jpg
ORGANIZER;CN="Mary Desjardine":MAILTO:marydesjardine@sympatico.ca
END:VEVENT
END:VCALENDAR