BEGIN:VCALENDAR
VERSION:2.0
PRODID:-//PROBUS Club of Mississauga Centre - ECPv6.15.18//NONSGML v1.0//EN
CALSCALE:GREGORIAN
METHOD:PUBLISH
X-WR-CALNAME:PROBUS Club of Mississauga Centre
X-ORIGINAL-URL:https://probusclubofmississaugacentre.ca
X-WR-CALDESC:Events for PROBUS Club of Mississauga Centre
REFRESH-INTERVAL;VALUE=DURATION:PT1H
X-Robots-Tag:noindex
X-PUBLISHED-TTL:PT1H
BEGIN:VTIMEZONE
TZID:America/Toronto
BEGIN:DAYLIGHT
TZOFFSETFROM:-0500
TZOFFSETTO:-0400
TZNAME:EDT
DTSTART:20250309T070000
END:DAYLIGHT
BEGIN:STANDARD
TZOFFSETFROM:-0400
TZOFFSETTO:-0500
TZNAME:EST
DTSTART:20251102T060000
END:STANDARD
BEGIN:DAYLIGHT
TZOFFSETFROM:-0500
TZOFFSETTO:-0400
TZNAME:EDT
DTSTART:20260308T070000
END:DAYLIGHT
BEGIN:STANDARD
TZOFFSETFROM:-0400
TZOFFSETTO:-0500
TZNAME:EST
DTSTART:20261101T060000
END:STANDARD
BEGIN:DAYLIGHT
TZOFFSETFROM:-0500
TZOFFSETTO:-0400
TZNAME:EDT
DTSTART:20270314T070000
END:DAYLIGHT
BEGIN:STANDARD
TZOFFSETFROM:-0400
TZOFFSETTO:-0500
TZNAME:EST
DTSTART:20271107T060000
END:STANDARD
BEGIN:DAYLIGHT
TZOFFSETFROM:-0500
TZOFFSETTO:-0400
TZNAME:EDT
DTSTART:20280312T070000
END:DAYLIGHT
BEGIN:STANDARD
TZOFFSETFROM:-0400
TZOFFSETTO:-0500
TZNAME:EST
DTSTART:20281105T060000
END:STANDARD
BEGIN:DAYLIGHT
TZOFFSETFROM:-0500
TZOFFSETTO:-0400
TZNAME:EDT
DTSTART:20290311T070000
END:DAYLIGHT
BEGIN:STANDARD
TZOFFSETFROM:-0400
TZOFFSETTO:-0500
TZNAME:EST
DTSTART:20291104T060000
END:STANDARD
END:VTIMEZONE
BEGIN:VEVENT
DTSTART;TZID=America/Toronto:20260424T100000
DTEND;TZID=America/Toronto:20260424T120000
DTSTAMP:20260420T102122
CREATED:20251114T222302Z
LAST-MODIFIED:20251114T222302Z
UID:10010482-1777024800-1777032000@probusclubofmississaugacentre.ca
SUMMARY:Page Turners Book Club
DESCRIPTION:
URL:https://probusclubofmississaugacentre.ca/events/page-turners-book-club/2026-04-24/
CATEGORIES:Activities,General
ATTACH;FMTTYPE=image/jpeg:https://probusclubofmississaugacentre.ca/wp-content/uploads/2023/08/Book-club-2023.jpg
ORGANIZER;CN="Mary Desjardine":MAILTO:marydesjardine@sympatico.ca
END:VEVENT
BEGIN:VEVENT
DTSTART;TZID=America/Toronto:20260522T100000
DTEND;TZID=America/Toronto:20260522T120000
DTSTAMP:20260420T102122
CREATED:20251114T222302Z
LAST-MODIFIED:20251114T222302Z
UID:10010483-1779444000-1779451200@probusclubofmississaugacentre.ca
SUMMARY:Page Turners Book Club
DESCRIPTION:
URL:https://probusclubofmississaugacentre.ca/events/page-turners-book-club/2026-05-22/
CATEGORIES:Activities,General
ATTACH;FMTTYPE=image/jpeg:https://probusclubofmississaugacentre.ca/wp-content/uploads/2023/08/Book-club-2023.jpg
ORGANIZER;CN="Mary Desjardine":MAILTO:marydesjardine@sympatico.ca
END:VEVENT
BEGIN:VEVENT
DTSTART;TZID=America/Toronto:20260626T100000
DTEND;TZID=America/Toronto:20260626T120000
DTSTAMP:20260420T102122
CREATED:20251114T222302Z
LAST-MODIFIED:20251114T222302Z
UID:10010484-1782468000-1782475200@probusclubofmississaugacentre.ca
SUMMARY:Page Turners Book Club
DESCRIPTION:
URL:https://probusclubofmississaugacentre.ca/events/page-turners-book-club/2026-06-26/
CATEGORIES:Activities,General
ATTACH;FMTTYPE=image/jpeg:https://probusclubofmississaugacentre.ca/wp-content/uploads/2023/08/Book-club-2023.jpg
ORGANIZER;CN="Mary Desjardine":MAILTO:marydesjardine@sympatico.ca
END:VEVENT
BEGIN:VEVENT
DTSTART;TZID=America/Toronto:20260724T100000
DTEND;TZID=America/Toronto:20260724T120000
DTSTAMP:20260420T102122
CREATED:20251114T222302Z
LAST-MODIFIED:20251114T222302Z
UID:10010485-1784887200-1784894400@probusclubofmississaugacentre.ca
SUMMARY:Page Turners Book Club
DESCRIPTION:
URL:https://probusclubofmississaugacentre.ca/events/page-turners-book-club/2026-07-24/
CATEGORIES:Activities,General
ATTACH;FMTTYPE=image/jpeg:https://probusclubofmississaugacentre.ca/wp-content/uploads/2023/08/Book-club-2023.jpg
ORGANIZER;CN="Mary Desjardine":MAILTO:marydesjardine@sympatico.ca
END:VEVENT
BEGIN:VEVENT
DTSTART;TZID=America/Toronto:20260828T100000
DTEND;TZID=America/Toronto:20260828T120000
DTSTAMP:20260420T102122
CREATED:20251114T222302Z
LAST-MODIFIED:20251114T222302Z
UID:10010486-1787911200-1787918400@probusclubofmississaugacentre.ca
SUMMARY:Page Turners Book Club
DESCRIPTION:
URL:https://probusclubofmississaugacentre.ca/events/page-turners-book-club/2026-08-28/
CATEGORIES:Activities,General
ATTACH;FMTTYPE=image/jpeg:https://probusclubofmississaugacentre.ca/wp-content/uploads/2023/08/Book-club-2023.jpg
ORGANIZER;CN="Mary Desjardine":MAILTO:marydesjardine@sympatico.ca
END:VEVENT
BEGIN:VEVENT
DTSTART;TZID=America/Toronto:20260925T100000
DTEND;TZID=America/Toronto:20260925T120000
DTSTAMP:20260420T102122
CREATED:20251114T222302Z
LAST-MODIFIED:20251114T222302Z
UID:10010487-1790330400-1790337600@probusclubofmississaugacentre.ca
SUMMARY:Page Turners Book Club
DESCRIPTION:
URL:https://probusclubofmississaugacentre.ca/events/page-turners-book-club/2026-09-25/
CATEGORIES:Activities,General
ATTACH;FMTTYPE=image/jpeg:https://probusclubofmississaugacentre.ca/wp-content/uploads/2023/08/Book-club-2023.jpg
ORGANIZER;CN="Mary Desjardine":MAILTO:marydesjardine@sympatico.ca
END:VEVENT
BEGIN:VEVENT
DTSTART;TZID=America/Toronto:20261023T100000
DTEND;TZID=America/Toronto:20261023T120000
DTSTAMP:20260420T102122
CREATED:20251114T222302Z
LAST-MODIFIED:20251114T222302Z
UID:10010488-1792749600-1792756800@probusclubofmississaugacentre.ca
SUMMARY:Page Turners Book Club
DESCRIPTION:
URL:https://probusclubofmississaugacentre.ca/events/page-turners-book-club/2026-10-23/
CATEGORIES:Activities,General
ATTACH;FMTTYPE=image/jpeg:https://probusclubofmississaugacentre.ca/wp-content/uploads/2023/08/Book-club-2023.jpg
ORGANIZER;CN="Mary Desjardine":MAILTO:marydesjardine@sympatico.ca
END:VEVENT
BEGIN:VEVENT
DTSTART;TZID=America/Toronto:20261127T100000
DTEND;TZID=America/Toronto:20261127T120000
DTSTAMP:20260420T102122
CREATED:20251114T222302Z
LAST-MODIFIED:20251114T222302Z
UID:10010489-1795773600-1795780800@probusclubofmississaugacentre.ca
SUMMARY:Page Turners Book Club
DESCRIPTION:
URL:https://probusclubofmississaugacentre.ca/events/page-turners-book-club/2026-11-27/
CATEGORIES:Activities,General
ATTACH;FMTTYPE=image/jpeg:https://probusclubofmississaugacentre.ca/wp-content/uploads/2023/08/Book-club-2023.jpg
ORGANIZER;CN="Mary Desjardine":MAILTO:marydesjardine@sympatico.ca
END:VEVENT
BEGIN:VEVENT
DTSTART;TZID=America/Toronto:20261225T100000
DTEND;TZID=America/Toronto:20261225T120000
DTSTAMP:20260420T102122
CREATED:20251114T222302Z
LAST-MODIFIED:20251114T222302Z
UID:10010490-1798192800-1798200000@probusclubofmississaugacentre.ca
SUMMARY:Page Turners Book Club
DESCRIPTION:
URL:https://probusclubofmississaugacentre.ca/events/page-turners-book-club/2026-12-25/
CATEGORIES:Activities,General
ATTACH;FMTTYPE=image/jpeg:https://probusclubofmississaugacentre.ca/wp-content/uploads/2023/08/Book-club-2023.jpg
ORGANIZER;CN="Mary Desjardine":MAILTO:marydesjardine@sympatico.ca
END:VEVENT
BEGIN:VEVENT
DTSTART;TZID=America/Toronto:20270122T100000
DTEND;TZID=America/Toronto:20270122T120000
DTSTAMP:20260420T102122
CREATED:20251114T222302Z
LAST-MODIFIED:20251114T222302Z
UID:10010491-1800612000-1800619200@probusclubofmississaugacentre.ca
SUMMARY:Page Turners Book Club
DESCRIPTION:
URL:https://probusclubofmississaugacentre.ca/events/page-turners-book-club/2027-01-22/
CATEGORIES:Activities,General
ATTACH;FMTTYPE=image/jpeg:https://probusclubofmississaugacentre.ca/wp-content/uploads/2023/08/Book-club-2023.jpg
ORGANIZER;CN="Mary Desjardine":MAILTO:marydesjardine@sympatico.ca
END:VEVENT
BEGIN:VEVENT
DTSTART;TZID=America/Toronto:20270226T100000
DTEND;TZID=America/Toronto:20270226T120000
DTSTAMP:20260420T102122
CREATED:20251114T222302Z
LAST-MODIFIED:20251114T222302Z
UID:10010492-1803636000-1803643200@probusclubofmississaugacentre.ca
SUMMARY:Page Turners Book Club
DESCRIPTION:
URL:https://probusclubofmississaugacentre.ca/events/page-turners-book-club/2027-02-26/
CATEGORIES:Activities,General
ATTACH;FMTTYPE=image/jpeg:https://probusclubofmississaugacentre.ca/wp-content/uploads/2023/08/Book-club-2023.jpg
ORGANIZER;CN="Mary Desjardine":MAILTO:marydesjardine@sympatico.ca
END:VEVENT
BEGIN:VEVENT
DTSTART;TZID=America/Toronto:20270326T100000
DTEND;TZID=America/Toronto:20270326T120000
DTSTAMP:20260420T102122
CREATED:20251114T222302Z
LAST-MODIFIED:20251114T222302Z
UID:10010493-1806055200-1806062400@probusclubofmississaugacentre.ca
SUMMARY:Page Turners Book Club
DESCRIPTION:
URL:https://probusclubofmississaugacentre.ca/events/page-turners-book-club/2027-03-26/
CATEGORIES:Activities,General
ATTACH;FMTTYPE=image/jpeg:https://probusclubofmississaugacentre.ca/wp-content/uploads/2023/08/Book-club-2023.jpg
ORGANIZER;CN="Mary Desjardine":MAILTO:marydesjardine@sympatico.ca
END:VEVENT
BEGIN:VEVENT
DTSTART;TZID=America/Toronto:20270423T100000
DTEND;TZID=America/Toronto:20270423T120000
DTSTAMP:20260420T102122
CREATED:20251114T222302Z
LAST-MODIFIED:20251114T222302Z
UID:10010494-1808474400-1808481600@probusclubofmississaugacentre.ca
SUMMARY:Page Turners Book Club
DESCRIPTION:
URL:https://probusclubofmississaugacentre.ca/events/page-turners-book-club/2027-04-23/
CATEGORIES:Activities,General
ATTACH;FMTTYPE=image/jpeg:https://probusclubofmississaugacentre.ca/wp-content/uploads/2023/08/Book-club-2023.jpg
ORGANIZER;CN="Mary Desjardine":MAILTO:marydesjardine@sympatico.ca
END:VEVENT
BEGIN:VEVENT
DTSTART;TZID=America/Toronto:20270528T100000
DTEND;TZID=America/Toronto:20270528T120000
DTSTAMP:20260420T102122
CREATED:20251114T222302Z
LAST-MODIFIED:20251114T222302Z
UID:10010495-1811498400-1811505600@probusclubofmississaugacentre.ca
SUMMARY:Page Turners Book Club
DESCRIPTION:
URL:https://probusclubofmississaugacentre.ca/events/page-turners-book-club/2027-05-28/
CATEGORIES:Activities,General
ATTACH;FMTTYPE=image/jpeg:https://probusclubofmississaugacentre.ca/wp-content/uploads/2023/08/Book-club-2023.jpg
ORGANIZER;CN="Mary Desjardine":MAILTO:marydesjardine@sympatico.ca
END:VEVENT
BEGIN:VEVENT
DTSTART;TZID=America/Toronto:20270625T100000
DTEND;TZID=America/Toronto:20270625T120000
DTSTAMP:20260420T102122
CREATED:20251114T222302Z
LAST-MODIFIED:20251114T222302Z
UID:10010496-1813917600-1813924800@probusclubofmississaugacentre.ca
SUMMARY:Page Turners Book Club
DESCRIPTION:
URL:https://probusclubofmississaugacentre.ca/events/page-turners-book-club/2027-06-25/
CATEGORIES:Activities,General
ATTACH;FMTTYPE=image/jpeg:https://probusclubofmississaugacentre.ca/wp-content/uploads/2023/08/Book-club-2023.jpg
ORGANIZER;CN="Mary Desjardine":MAILTO:marydesjardine@sympatico.ca
END:VEVENT
BEGIN:VEVENT
DTSTART;TZID=America/Toronto:20270723T100000
DTEND;TZID=America/Toronto:20270723T120000
DTSTAMP:20260420T102122
CREATED:20251114T222302Z
LAST-MODIFIED:20251114T222302Z
UID:10010497-1816336800-1816344000@probusclubofmississaugacentre.ca
SUMMARY:Page Turners Book Club
DESCRIPTION:
URL:https://probusclubofmississaugacentre.ca/events/page-turners-book-club/2027-07-23/
CATEGORIES:Activities,General
ATTACH;FMTTYPE=image/jpeg:https://probusclubofmississaugacentre.ca/wp-content/uploads/2023/08/Book-club-2023.jpg
ORGANIZER;CN="Mary Desjardine":MAILTO:marydesjardine@sympatico.ca
END:VEVENT
BEGIN:VEVENT
DTSTART;TZID=America/Toronto:20270827T100000
DTEND;TZID=America/Toronto:20270827T120000
DTSTAMP:20260420T102122
CREATED:20251114T222302Z
LAST-MODIFIED:20251114T222302Z
UID:10010498-1819360800-1819368000@probusclubofmississaugacentre.ca
SUMMARY:Page Turners Book Club
DESCRIPTION:
URL:https://probusclubofmississaugacentre.ca/events/page-turners-book-club/2027-08-27/
CATEGORIES:Activities,General
ATTACH;FMTTYPE=image/jpeg:https://probusclubofmississaugacentre.ca/wp-content/uploads/2023/08/Book-club-2023.jpg
ORGANIZER;CN="Mary Desjardine":MAILTO:marydesjardine@sympatico.ca
END:VEVENT
BEGIN:VEVENT
DTSTART;TZID=America/Toronto:20270924T100000
DTEND;TZID=America/Toronto:20270924T120000
DTSTAMP:20260420T102122
CREATED:20251114T222302Z
LAST-MODIFIED:20251114T222302Z
UID:10010499-1821780000-1821787200@probusclubofmississaugacentre.ca
SUMMARY:Page Turners Book Club
DESCRIPTION:
URL:https://probusclubofmississaugacentre.ca/events/page-turners-book-club/2027-09-24/
CATEGORIES:Activities,General
ATTACH;FMTTYPE=image/jpeg:https://probusclubofmississaugacentre.ca/wp-content/uploads/2023/08/Book-club-2023.jpg
ORGANIZER;CN="Mary Desjardine":MAILTO:marydesjardine@sympatico.ca
END:VEVENT
BEGIN:VEVENT
DTSTART;TZID=America/Toronto:20271022T100000
DTEND;TZID=America/Toronto:20271022T120000
DTSTAMP:20260420T102122
CREATED:20251114T222302Z
LAST-MODIFIED:20251114T222302Z
UID:10010500-1824199200-1824206400@probusclubofmississaugacentre.ca
SUMMARY:Page Turners Book Club
DESCRIPTION:
URL:https://probusclubofmississaugacentre.ca/events/page-turners-book-club/2027-10-22/
CATEGORIES:Activities,General
ATTACH;FMTTYPE=image/jpeg:https://probusclubofmississaugacentre.ca/wp-content/uploads/2023/08/Book-club-2023.jpg
ORGANIZER;CN="Mary Desjardine":MAILTO:marydesjardine@sympatico.ca
END:VEVENT
BEGIN:VEVENT
DTSTART;TZID=America/Toronto:20271126T100000
DTEND;TZID=America/Toronto:20271126T120000
DTSTAMP:20260420T102122
CREATED:20251114T222302Z
LAST-MODIFIED:20251114T222302Z
UID:10010501-1827223200-1827230400@probusclubofmississaugacentre.ca
SUMMARY:Page Turners Book Club
DESCRIPTION:
URL:https://probusclubofmississaugacentre.ca/events/page-turners-book-club/2027-11-26/
CATEGORIES:Activities,General
ATTACH;FMTTYPE=image/jpeg:https://probusclubofmississaugacentre.ca/wp-content/uploads/2023/08/Book-club-2023.jpg
ORGANIZER;CN="Mary Desjardine":MAILTO:marydesjardine@sympatico.ca
END:VEVENT
BEGIN:VEVENT
DTSTART;TZID=America/Toronto:20271224T100000
DTEND;TZID=America/Toronto:20271224T120000
DTSTAMP:20260420T102122
CREATED:20251114T222302Z
LAST-MODIFIED:20251114T222302Z
UID:10010502-1829642400-1829649600@probusclubofmississaugacentre.ca
SUMMARY:Page Turners Book Club
DESCRIPTION:
URL:https://probusclubofmississaugacentre.ca/events/page-turners-book-club/2027-12-24/
CATEGORIES:Activities,General
ATTACH;FMTTYPE=image/jpeg:https://probusclubofmississaugacentre.ca/wp-content/uploads/2023/08/Book-club-2023.jpg
ORGANIZER;CN="Mary Desjardine":MAILTO:marydesjardine@sympatico.ca
END:VEVENT
BEGIN:VEVENT
DTSTART;TZID=America/Toronto:20280128T100000
DTEND;TZID=America/Toronto:20280128T120000
DTSTAMP:20260420T102122
CREATED:20251114T222302Z
LAST-MODIFIED:20251114T222302Z
UID:10010503-1832666400-1832673600@probusclubofmississaugacentre.ca
SUMMARY:Page Turners Book Club
DESCRIPTION:
URL:https://probusclubofmississaugacentre.ca/events/page-turners-book-club/2028-01-28/
CATEGORIES:Activities,General
ATTACH;FMTTYPE=image/jpeg:https://probusclubofmississaugacentre.ca/wp-content/uploads/2023/08/Book-club-2023.jpg
ORGANIZER;CN="Mary Desjardine":MAILTO:marydesjardine@sympatico.ca
END:VEVENT
BEGIN:VEVENT
DTSTART;TZID=America/Toronto:20280225T100000
DTEND;TZID=America/Toronto:20280225T120000
DTSTAMP:20260420T102122
CREATED:20251114T222302Z
LAST-MODIFIED:20251114T222302Z
UID:10010504-1835085600-1835092800@probusclubofmississaugacentre.ca
SUMMARY:Page Turners Book Club
DESCRIPTION:
URL:https://probusclubofmississaugacentre.ca/events/page-turners-book-club/2028-02-25/
CATEGORIES:Activities,General
ATTACH;FMTTYPE=image/jpeg:https://probusclubofmississaugacentre.ca/wp-content/uploads/2023/08/Book-club-2023.jpg
ORGANIZER;CN="Mary Desjardine":MAILTO:marydesjardine@sympatico.ca
END:VEVENT
BEGIN:VEVENT
DTSTART;TZID=America/Toronto:20280324T100000
DTEND;TZID=America/Toronto:20280324T120000
DTSTAMP:20260420T102122
CREATED:20251114T222302Z
LAST-MODIFIED:20251114T222302Z
UID:10010505-1837504800-1837512000@probusclubofmississaugacentre.ca
SUMMARY:Page Turners Book Club
DESCRIPTION:
URL:https://probusclubofmississaugacentre.ca/events/page-turners-book-club/2028-03-24/
CATEGORIES:Activities,General
ATTACH;FMTTYPE=image/jpeg:https://probusclubofmississaugacentre.ca/wp-content/uploads/2023/08/Book-club-2023.jpg
ORGANIZER;CN="Mary Desjardine":MAILTO:marydesjardine@sympatico.ca
END:VEVENT
BEGIN:VEVENT
DTSTART;TZID=America/Toronto:20280428T100000
DTEND;TZID=America/Toronto:20280428T120000
DTSTAMP:20260420T102122
CREATED:20251114T222302Z
LAST-MODIFIED:20251114T222302Z
UID:10010506-1840528800-1840536000@probusclubofmississaugacentre.ca
SUMMARY:Page Turners Book Club
DESCRIPTION:
URL:https://probusclubofmississaugacentre.ca/events/page-turners-book-club/2028-04-28/
CATEGORIES:Activities,General
ATTACH;FMTTYPE=image/jpeg:https://probusclubofmississaugacentre.ca/wp-content/uploads/2023/08/Book-club-2023.jpg
ORGANIZER;CN="Mary Desjardine":MAILTO:marydesjardine@sympatico.ca
END:VEVENT
BEGIN:VEVENT
DTSTART;TZID=America/Toronto:20280526T100000
DTEND;TZID=America/Toronto:20280526T120000
DTSTAMP:20260420T102122
CREATED:20251114T222302Z
LAST-MODIFIED:20251114T222302Z
UID:10010507-1842948000-1842955200@probusclubofmississaugacentre.ca
SUMMARY:Page Turners Book Club
DESCRIPTION:
URL:https://probusclubofmississaugacentre.ca/events/page-turners-book-club/2028-05-26/
CATEGORIES:Activities,General
ATTACH;FMTTYPE=image/jpeg:https://probusclubofmississaugacentre.ca/wp-content/uploads/2023/08/Book-club-2023.jpg
ORGANIZER;CN="Mary Desjardine":MAILTO:marydesjardine@sympatico.ca
END:VEVENT
BEGIN:VEVENT
DTSTART;TZID=America/Toronto:20280623T100000
DTEND;TZID=America/Toronto:20280623T120000
DTSTAMP:20260420T102122
CREATED:20251114T222302Z
LAST-MODIFIED:20251114T222302Z
UID:10010508-1845367200-1845374400@probusclubofmississaugacentre.ca
SUMMARY:Page Turners Book Club
DESCRIPTION:
URL:https://probusclubofmississaugacentre.ca/events/page-turners-book-club/2028-06-23/
CATEGORIES:Activities,General
ATTACH;FMTTYPE=image/jpeg:https://probusclubofmississaugacentre.ca/wp-content/uploads/2023/08/Book-club-2023.jpg
ORGANIZER;CN="Mary Desjardine":MAILTO:marydesjardine@sympatico.ca
END:VEVENT
BEGIN:VEVENT
DTSTART;TZID=America/Toronto:20280728T100000
DTEND;TZID=America/Toronto:20280728T120000
DTSTAMP:20260420T102122
CREATED:20251114T222302Z
LAST-MODIFIED:20251114T222302Z
UID:10010509-1848391200-1848398400@probusclubofmississaugacentre.ca
SUMMARY:Page Turners Book Club
DESCRIPTION:
URL:https://probusclubofmississaugacentre.ca/events/page-turners-book-club/2028-07-28/
CATEGORIES:Activities,General
ATTACH;FMTTYPE=image/jpeg:https://probusclubofmississaugacentre.ca/wp-content/uploads/2023/08/Book-club-2023.jpg
ORGANIZER;CN="Mary Desjardine":MAILTO:marydesjardine@sympatico.ca
END:VEVENT
BEGIN:VEVENT
DTSTART;TZID=America/Toronto:20280825T100000
DTEND;TZID=America/Toronto:20280825T120000
DTSTAMP:20260420T102122
CREATED:20251114T222302Z
LAST-MODIFIED:20251114T222302Z
UID:10010510-1850810400-1850817600@probusclubofmississaugacentre.ca
SUMMARY:Page Turners Book Club
DESCRIPTION:
URL:https://probusclubofmississaugacentre.ca/events/page-turners-book-club/2028-08-25/
CATEGORIES:Activities,General
ATTACH;FMTTYPE=image/jpeg:https://probusclubofmississaugacentre.ca/wp-content/uploads/2023/08/Book-club-2023.jpg
ORGANIZER;CN="Mary Desjardine":MAILTO:marydesjardine@sympatico.ca
END:VEVENT
BEGIN:VEVENT
DTSTART;TZID=America/Toronto:20280922T100000
DTEND;TZID=America/Toronto:20280922T120000
DTSTAMP:20260420T102122
CREATED:20251114T222302Z
LAST-MODIFIED:20251114T222302Z
UID:10010511-1853229600-1853236800@probusclubofmississaugacentre.ca
SUMMARY:Page Turners Book Club
DESCRIPTION:
URL:https://probusclubofmississaugacentre.ca/events/page-turners-book-club/2028-09-22/
CATEGORIES:Activities,General
ATTACH;FMTTYPE=image/jpeg:https://probusclubofmississaugacentre.ca/wp-content/uploads/2023/08/Book-club-2023.jpg
ORGANIZER;CN="Mary Desjardine":MAILTO:marydesjardine@sympatico.ca
END:VEVENT
END:VCALENDAR